Workbook
Name J: #REF!
Name JJJ: #REF!
Name JJJJJJ: #REF!
Name kw: #REF!

Sheet Sheet1
A1: 附件
A2: 长汀县中心城区污水处理改造提升项目概算汇总表
A3: 序号 | B3: 工程和费用名称 | C3: 估算金额(万元) | G3: 取费依据
C4: 建安费用 | D4: 其他费用 | E4: 小计 | F4: 合计
A5: 一 | B5: 工程费用 | C5: =ROUND(SUM(C6+C7),2) -> 418.92 | E5: =ROUND(SUM(C5),2) -> 418.92 | F5: =E5 -> 418.92
A6: 1 | B6: 新民社区 | C6: =1286754/10000 -> 128.6754 | E6: =C6 -> 128.6754 | F6: =E6 -> 128.6754
A7: 2 | B7: 南门街社区 | C7: =2902400/10000 -> 290.24 | E7: =C7 -> 290.24 | F7: =E7 -> 290.24
A8: 二 | B8: 工程其他费用 | D8: =E8 -> 78.606112 | E8: =SUM(E9:E22) -> 78.606112 | F8: =E8 -> 78.606112
A9: 1 | B9: 建设单位管理费 | D9: =IF(F5>100000,940+(F5-100000)*0.4%,IF(F5>50000,540+(F5-50000)*0.8%,IF(F5>10000,140+(F5-10000)*1%,IF(F5>5000,80+(F5-5000)*1.2%,IF(F5>1000,20+(F5-1000)*1.5%,F5*2%))))) -> 8.3784 | E9: =D9 -> 8.3784
A10: 2 | B10: 工程监理费 | D10: =[1]监理!D3 -> 11.750706 | E10: =D10 -> 11.750706
A11: 3 | B11: 造价咨询服务费 | C11: 全过程咨询造价、结算、决算 | D11: =IF(F5>50000,634+(F5-50000)*0.0098,IF(F5>30000,402+(F5-30000)*0.0116,IF(F5>10000,152+(F5-10000)*0.0125,IF(F5>5000,83+(F5-5000)*0.0138,IF(F5>1000,17.4+(F5-1000)*0.0164,IF(F5>500,8.85+(F5-500)*0.0171,F5*0.0177)))))) -> 7.414884 | E11: =D11 -> 7.414884
A12: 4 | B12: 前期工程咨询费用 | D12: =[1]二类费用计算!G7 -> 6.3 | E12: =D12 -> 6.3
A13: 5 | B13: 工程勘察费 | D13: =F5*1% -> 4.1892 | E13: =D13 -> 4.1892
A14: 6 | B14: 工程设计费 | D14: =[1]勘察设计!F15 -> 18.362886 | E14: =D14 -> 18.362886
A15: 7 | B15: 劳动安全卫生评审费 | D15: =F5*0.5% -> 2.0946 | E15: =D15 -> 2.0946
A16: 8 | B16: 场地准备临时设施费 | D16: =F5*2% -> 8.3784 | E16: =D16 -> 8.3784
A17: 9 | B17: 工程保险费 | D17: =F5*0.6% -> 2.51352 | E17: =D17 -> 2.51352
A18: 10 | B18: 施工图审查费 | D18: =100*0.17%+(500-100)*0.14%+(F5-500)*0.11% -> 0.640812 | E18: =D18 -> 0.640812
A19: 11 | B19: 招标代理服务费 | D19: =[1]二类费用计算!E27 -> 3.75 | E19: =D19 -> 3.75
A20: 12 | B20: 环境影响评价费 | D20: =[1]二类费用计算!G34 -> 1.82 | E20: =D20 -> 1.82
A21: 13 | B21: 水土保持咨询费 | D21: =[1]二类费用计算!G30 -> 2.51 | E21: =D21 -> 2.51
A22: 14 | B22: 工程款支付担保费 | D22: =F5*10%*1.2% -> 0.502704 | E22: =D22 -> 0.502704
B23: 第一、二部分费用合计 | F23: =ROUND(F5+F8,2) -> 497.53
A24: 三 | B24: 基本预备费 | F24: =F25 -> 24.876306
A25: 1 | B25: 基本预备费 | C25: 费率为5% | F25: =(F5+F8)*0.05 -> 24.876306 | G25: （一＋二）*5%
A26: 四 | B26: 工程总投资 | F26: =F23+F24 -> 522.40631
